{"text_format":"3","workbook":"xlsx","n_sheets":2,"sheets":["Formular","Daten"],"not_rendered":{"defined_names":1,"comments":1},"read":"whole","date_system":"1900"}

{"sheet":"Formular","index":0,"n_rows":44,"n_cols":14,"rows_kept":44,"merged":[[0,12,0,13],[1,0,2,4],[4,0,4,4],[5,0,5,4],[7,3,7,4],[10,6,10,7],[12,8,12,9],[12,10,12,11],[13,9,15,9],[13,11,15,11],[16,1,17,1],[16,2,17,2],[16,3,27,5],[16,6,17,6],[16,9,17,9],[16,10,17,10],[16,11,17,11],[16,12,17,12],[16,13,17,13],[18,1,19,1],[18,2,19,2],[18,6,19,6],[18,9,19,9],[18,10,19,10],[18,11,19,11],[18,12,19,12],[18,13,19,13],[20,1,21,1],[20,2,21,2],[20,6,21,6],[20,9,21,9],[20,10,21,10],[20,11,21,11],[20,12,21,12],[20,13,21,13],[22,1,23,1],[22,2,23,2],[22,6,23,6],[22,9,23,9],[22,10,23,10],[22,11,23,11],[22,12,23,12],[22,13,23,13],[24,1,25,1],[24,2,25,2],[24,6,25,6],[24,9,25,9],[24,10,25,10],[24,11,25,11],[24,12,25,12],[24,13,25,13],[26,1,27,1],[26,2,27,2],[26,6,27,6],[26,9,27,9],[26,10,27,10],[26,11,27,11],[26,12,27,12],[26,13,27,13],[28,7,28,8],[29,10,29,12],[38,0,43,3]]}
[{"$nulls":6},"REISERECHNUNG (Landeslehrer/in)",{"$nulls":5},"Version 2016-10\nBEZU und TG automatisch"]
[]
[{"$nulls":6},"Durchführung der Reisebewegung:"]
["Familienname, Vorname, Titel",{"$nulls":5},"Verwendung der ÖBB-Business-Card"]
[{"$nulls":6},"(von der Schule zur Verfügung gestellt)"]
[{"$nulls":6},"Öffentliche Verkehrsmittel (Belege anschließen)"]
["Wohnadresse",{"$nulls":5},"Beförderungszuschuss (BEZU)"]
[null,"Personalnummer: ","P",{"$nulls":3},"PKW - amtliches Kilometergeld"]
[{"$nulls":10},false,null,"Schulstempel und Eingangsdatum"]
[]
["      Lt. Ausschreibung/Erlass täglich Anspruch auf Tages- u. Nächtigungsgebühr (K)",{"$nulls":5},"Heimverrechnung (H):"]
[]
["Datum/Daten","Uhrzeit der",null,"1. Gegenstand u. Ort der Amtshandlung",null,null,"Fahrtstrecke","Entfernung","Reisekosten",null,"Tagesgebühr",null,"Nächtigungs-","Nebenkosten"]
["der Reise","Abfahrt","Rückkehr","2. Geschäftszahl und Datum des dienstl.",null,null,"ev. Anführung","in km","BEZU","Summe\nÖffentl.\nVKM etc.","Tarif:","Betrag","gebühr"]
["Anfangsdatum",null,null,"    Auftrages",null,null,"innerstädt. VKM","Hinfahrt","Hinfahrt",null,"1 oder 2"]
["Enddatum",null,null,"3. Dauer des Dienstgeschäftes täglich",null,null,"Straßenbahn, ...","Rückfahrt","Rückfahrt",null,"eingeben"]
[{"$nulls":3},"1.\n2.\n3.",{"$nulls":4},{"$f":"IF(H17>0,IF(H17<=Daten!$D$25,1.64,IF(H17<=Daten!$E$25,H17*0.2,IF(H17<=Daten!$F$25,(H17-Daten!$E$25)*0.1+10,IF(AND(H17>Daten!$F$25,(H17-Daten!$F$25)*0.05+35<52),(H17-Daten!$F$25)*0.05+35,52)))),\"\")","v":""},null,null,{"$f":"IF(C17<>\"\",IF(AND(OR(A17=A18,A18=\"\"),B17>=C17),\"Uhrzeit!!\",IF($K$9=TRUE,\"\",IF(K17=2,Daten!C17,Daten!C5))),\"\")","v":""}]
[{"$nulls":8},{"$f":"IF(H18>0,IF(H18<=Daten!$D$25,1.64,IF(H18<=Daten!$E$25,H18*0.2,IF(H18<=Daten!$F$25,(H18-Daten!$E$25)*0.1+10,IF(AND(H18>Daten!$F$25,(H18-Daten!$F$25)*0.05+35<52),(H18-Daten!$F$25)*0.05+35,52)))),\"\")","v":""}]
[{"$nulls":8},{"$f":"IF(H19>0,IF(H19<=Daten!$D$25,1.64,IF(H19<=Daten!$E$25,H19*0.2,IF(H19<=Daten!$F$25,(H19-Daten!$E$25)*0.1+10,IF(AND(H19>Daten!$F$25,(H19-Daten!$F$25)*0.05+35<52),(H19-Daten!$F$25)*0.05+35,52)))),\"\")","v":""},null,null,{"$f":"IF(C19<>\"\",IF(AND(OR(A19=A20,A20=\"\"),B19>=C19),\"Uhrzeit!!\",IF($K$9=TRUE,\"\",IF(K19=2,Daten!C18,Daten!C6))),\"\")","v":""}]
[{"$nulls":8},{"$f":"IF(H20>0,IF(H20<=Daten!$D$25,1.64,IF(H20<=Daten!$E$25,H20*0.2,IF(H20<=Daten!$F$25,(H20-Daten!$E$25)*0.1+10,IF(AND(H20>Daten!$F$25,(H20-Daten!$F$25)*0.05+35<52),(H20-Daten!$F$25)*0.05+35,52)))),\"\")","v":""}]
[{"$nulls":8},{"$f":"IF(H21>0,IF(H21<=Daten!$D$25,1.64,IF(H21<=Daten!$E$25,H21*0.2,IF(H21<=Daten!$F$25,(H21-Daten!$E$25)*0.1+10,IF(AND(H21>Daten!$F$25,(H21-Daten!$F$25)*0.05+35<52),(H21-Daten!$F$25)*0.05+35,52)))),\"\")","v":""},null,null,{"$f":"IF(C21<>\"\",IF(AND(OR(A21=A22,A22=\"\"),B21>=C21),\"Uhrzeit!!\",IF($K$9=TRUE,\"\",IF(K21=2,Daten!C19,Daten!C7))),\"\")","v":""}]
[{"$nulls":8},{"$f":"IF(H22>0,IF(H22<=Daten!$D$25,1.64,IF(H22<=Daten!$E$25,H22*0.2,IF(H22<=Daten!$F$25,(H22-Daten!$E$25)*0.1+10,IF(AND(H22>Daten!$F$25,(H22-Daten!$F$25)*0.05+35<52),(H22-Daten!$F$25)*0.05+35,52)))),\"\")","v":""}]
[{"$nulls":8},{"$f":"IF(H23>0,IF(H23<=Daten!$D$25,1.64,IF(H23<=Daten!$E$25,H23*0.2,IF(H23<=Daten!$F$25,(H23-Daten!$E$25)*0.1+10,IF(AND(H23>Daten!$F$25,(H23-Daten!$F$25)*0.05+35<52),(H23-Daten!$F$25)*0.05+35,52)))),\"\")","v":""},null,null,{"$f":"IF(C23<>\"\",IF(AND(OR(A23=A24,A24=\"\"),B23>=C23),\"Uhrzeit!!\",IF($K$9=TRUE,\"\",IF(K23=2,Daten!C20,Daten!C8))),\"\")","v":""}]
[{"$nulls":8},{"$f":"IF(H24>0,IF(H24<=Daten!$D$25,1.64,IF(H24<=Daten!$E$25,H24*0.2,IF(H24<=Daten!$F$25,(H24-Daten!$E$25)*0.1+10,IF(AND(H24>Daten!$F$25,(H24-Daten!$F$25)*0.05+35<52),(H24-Daten!$F$25)*0.05+35,52)))),\"\")","v":""}]
[{"$nulls":8},{"$f":"IF(H25>0,IF(H25<=Daten!$D$25,1.64,IF(H25<=Daten!$E$25,H25*0.2,IF(H25<=Daten!$F$25,(H25-Daten!$E$25)*0.1+10,IF(AND(H25>Daten!$F$25,(H25-Daten!$F$25)*0.05+35<52),(H25-Daten!$F$25)*0.05+35,52)))),\"\")","v":""},null,null,{"$f":"IF(C25<>\"\",IF(AND(OR(A25=A26,A26=\"\"),B25>=C25),\"Uhrzeit!!\",IF($K$9=TRUE,\"\",IF(K25=2,Daten!C21,Daten!C9))),\"\")","v":""}]
[{"$nulls":8},{"$f":"IF(H26>0,IF(H26<=Daten!$D$25,1.64,IF(H26<=Daten!$E$25,H26*0.2,IF(H26<=Daten!$F$25,(H26-Daten!$E$25)*0.1+10,IF(AND(H26>Daten!$F$25,(H26-Daten!$F$25)*0.05+35<52),(H26-Daten!$F$25)*0.05+35,52)))),\"\")","v":""}]
[{"$nulls":8},{"$f":"IF(H27>0,IF(H27<=Daten!$D$25,1.64,IF(H27<=Daten!$E$25,H27*0.2,IF(H27<=Daten!$F$25,(H27-Daten!$E$25)*0.1+10,IF(AND(H27>Daten!$F$25,(H27-Daten!$F$25)*0.05+35<52),(H27-Daten!$F$25)*0.05+35,52)))),\"\")","v":""},null,null,{"$f":"IF(C27<>\"\",IF(AND(OR(A27=A28,A28=\"\"),B27>=C27),\"Uhrzeit!!\",IF($K$9=TRUE,\"\",IF(K27=2,Daten!C22,Daten!C10))),\"\")","v":""}]
[{"$nulls":8},{"$f":"IF(H28>0,IF(H28<=Daten!$D$25,1.64,IF(H28<=Daten!$E$25,H28*0.2,IF(H28<=Daten!$F$25,(H28-Daten!$E$25)*0.1+10,IF(AND(H28>Daten!$F$25,(H28-Daten!$F$25)*0.05+35<52),(H28-Daten!$F$25)*0.05+35,52)))),\"\")","v":""}]
[{"$nulls":7},"Summe\nReisekosten:",null,{"$f":"SUM(I17:I28,J17:J28)","v":{"v":0,"d":"0.00"}},null,{"$f":"SUM(L17:L28)","v":{"v":0,"d":"0.00"}},{"$f":"SUM(M17:M28)","v":{"v":0,"d":"0.00"}},{"$f":"SUM(N17:N28)","v":{"v":0,"d":"0.00"}}]
["Beilagen:",{"$nulls":9},"Gesamtsumme: €",null,null,{"$f":"J29+L29+M29+N29","v":{"v":0,"d":"0.00"}}]
[null,"Beiblätter zur Reiserechnung",null,null,"Ich beantrage die Anweisung der mir ",{"$nulls":3},"Die auswärtige Dienstverrichtung erfolgte"]
[null,"saldierte Rechnungen über Nächtigungskosten",null,null,"zustehenden Vergütung und versichere, dass",{"$nulls":3},"über amtlichen Auftrag, die Bestimmungen der",{"$nulls":3},"ZVA erstellt:"]
[null,"Reiseaufträge",null,null,"meine Angaben vollständig und richtig sind:",{"$nulls":3},"Reisegebührenvorschrift wurden beachtet:"]
[null,"Nachweise Benützung öffentl. Verkehrsmittel"]
[]
["Bei Verrechnung BEZU:"]
["      Tageskilometerzähler"]
["      Routenplaner:","Google",null,null,"Ort","Datum",{"$nulls":3},"Ort",null,"Datum"]
["Anmerkungen:\n"]
[]
[]
[]
[]
[{"$nulls":4},"Unterschrift RechnungslegerIn",{"$nulls":4},"Unterschrift DienststellenleiterIn",{"$nulls":3},"LGH"]

{"sheet":"Daten","index":1,"n_rows":32,"n_cols":14,"rows_kept":32,"hidden":true,"merged":[[0,0,0,6],[12,0,12,6]]}
["TAGESGEBÜHR Tarif 1 (bei allen Dienstreisen außerhalb des Bezirkes bzw. bei allen Dienstreisen außerhalb und innerhalb des Bezirkes mit Nächtigung (§ 13(2) RGV).\n"]
["Tarif 1"]
[{"$nulls":3},"0-5 Std","5 - 8 Std.","8 -12 Std.","12 - 24 Std","Tage"]
[{"$nulls":3},{"v":0,"d":"€ 0.00"},{"v":8.8,"d":"€ 8.80"},{"v":17.6,"d":"€ 17.60"},{"v":26.4,"d":"€ 26.40"},null,"Beginn","Ende","Diff","Tage","Stunden","ErgStd."]
["Tag 1","Dauer",{"$f":"IF(L5<0,N5,L5*26.4+N5)","v":0},{"$nulls":5},{"$f":"(Formular!A17+Formular!B17)","v":"00:00:00"},{"$f":"Formular!A18+Formular!C17","v":"00:00:00"},{"$f":"J5-I5","v":{"v":0,"d":"0.000"}},{"$f":"INT(K5)","v":0},{"$f":"TRUNC((K5-L5)*24,6)","v":0},{"$f":"IF(M5<=5,$D$4,IF(M5<=8,$E$4,IF(M5<=12,$F$4,$G$4)))","v":0}]
["Tag 2","Dauer",{"$f":"IF(L6<0,N6,L6*26.4+N6)","v":0},{"$nulls":5},{"$f":"(Formular!A19+Formular!B19)","v":"00:00:00"},{"$f":"Formular!A20+Formular!C19","v":"00:00:00"},{"$f":"J6-I6","v":{"v":0,"d":"0.000"}},{"$f":"INT(K6)","v":0},{"$f":"TRUNC((K6-L6)*24,6)","v":0},{"$f":"IF(M6<=5,$D$4,IF(M6<=8,$E$4,IF(M6<=12,$F$4,$G$4)))","v":0}]
["Tag 3","Dauer",0,{"$nulls":5},{"$f":"(Formular!A21+Formular!B21)","v":"00:00:00"},{"$f":"Formular!A22+Formular!C21","v":"00:00:00"},{"v":0,"d":"0.000"},0,0,0]
["Tag 4","Dauer",0,{"$nulls":5},{"$f":"(Formular!A23+Formular!B23)","v":"00:00:00"},{"$f":"Formular!A24+Formular!C23","v":"00:00:00"},{"$f":"J8-I8","v":{"v":0,"d":"0.000"}},0,{"$f":"TRUNC((K8-L8)*24,6)","v":0},0]
["Tag 5","Dauer",0,{"$nulls":5},{"$f":"(Formular!A25+Formular!B25)","v":"00:00:00"},{"$f":"Formular!A26+Formular!C25","v":"00:00:00"},{"v":0,"d":"0.000"},0,0,0]
["Tag 6","Dauer",0,{"$nulls":5},{"$f":"(Formular!A27+Formular!B27)","v":"00:00:00"},{"$f":"Formular!A28+Formular!C27","v":"00:00:00"},{"v":0,"d":"0.000"},0,0,0]
[]
["Tarif 2"]
["TAGESGEBÜHR Tarif 2 (bei allen Dienstreisen innerhalb des Bezirkes (Bezirksreisen) ohne Nächtigung bzw. bei immer wieder stattfindenden Dienstreisen ab dem 31. Tag am selben Dienstort  ohne dass eine mehr als 14-tägige Unterbrechung eintritt. Landeshauptstädte und Städte mit eigenem Statut (für OÖ: Linz, Wels und Steyr) gelten im Sinn der RGV nicht als eigener Bezirk, sodass Reisen in angrenzende Bezirke auch als Bezirksreisen gelten.)\n"]
[]
[{"$nulls":3},"0-5 Std","5 - 8 Std.","8 -12 Std.","12 - 24 Std"]
[{"$nulls":3},{"v":0,"d":"€ 0.00"},{"v":6.6,"d":"€ 6.60"},{"v":13.2,"d":"€ 13.20"},{"v":19.8,"d":"€ 19.80"},null,"Beginn","Ende","Diff","Tage","Stunden","ErgStd."]
["Tag 1","Dauer",{"$f":"IF(L17<0,N17,L17*19.8+N17)","v":0},{"$nulls":5},{"$f":"(Formular!A17+Formular!B17)","v":"00:00:00"},{"$f":"Formular!A18+Formular!C17","v":"00:00:00"},{"$f":"J17-I17","v":{"v":0,"d":"0.000"}},{"$f":"INT(K17)","v":0},{"$f":"TRUNC((K17-L17)*24,6)","v":0},{"$f":"IF(M17<=5,$D$16,IF(M17<=8,$E$16,IF(M17<=12,$F$16,$G$16)))","v":0}]
["Tag 2","Dauer",{"$f":"IF(L18<0,N18,L18*19.8+N18)","v":0},{"$nulls":5},{"$f":"(Formular!A19+Formular!B19)","v":"00:00:00"},{"$f":"Formular!A20+Formular!C19","v":"00:00:00"},{"$f":"J18-I18","v":{"v":0,"d":"0.000"}},{"$f":"INT(K18)","v":0},{"$f":"TRUNC((K18-L18)*24,6)","v":0},0]
["Tag 3","Dauer",0,{"$nulls":5},{"$f":"(Formular!A21+Formular!B21)","v":"00:00:00"},{"$f":"Formular!A22+Formular!C21","v":"00:00:00"},{"v":0,"d":"0.000"},0,0,0]
["Tag 4","Dauer",0,{"$nulls":5},{"$f":"(Formular!A23+Formular!B23)","v":"00:00:00"},{"$f":"Formular!A24+Formular!C23","v":"00:00:00"},{"v":0,"d":"0.000"},0,0,0]
["Tag 5","Dauer",0,{"$nulls":5},{"$f":"(Formular!A25+Formular!B25)","v":"00:00:00"},{"$f":"Formular!A26+Formular!C25","v":"00:00:00"},{"v":0,"d":"0.000"},0,0,0]
["Tag 6","Dauer",0,{"$nulls":5},{"$f":"(Formular!A27+Formular!B27)","v":"00:00:00"},{"$f":"Formular!A28+Formular!C27","v":"00:00:00"},{"v":0,"d":"0.000"},0,0,0]
[]
["BEZU Grenzwerte",{"$nulls":5},"Pauschale"]
[{"$nulls":3},{"v":8,"d":"8 km"},{"v":50,"d":"50 km"},{"v":300,"d":"300 km"},{"v":52,"d":"€ 52.00"}]
[]
[]
["Hinweise:"]
[]
["1. Alle Berechnungsdaten sind in ein Tabellenblatt hineinprogrammiert. Die gelb markierten Zellen kann man nach Aufheben des Blattschutzes ändern. Somit kann bei einer gesetzlichen Veränderung der Grenzwerte die Berechnung leicht aktualisiert werden."]
["2. Die Werte des BEZU werden jetzt im Tabellenblatt „Formular“ direkt berechnet (Zellen L18-L28). In den Zellen ist eine Kontrolle, falls die Ankunftszeit am selben Tag VOR der Abfahrtszeit liegen sollte. "]
["3. Weitere Kontrolle beim Eingabedatum, dass Ankunftstag nicht vor dem Abfahrtstag liegt."]